BEGIN:VCALENDAR
VERSION:2.0
PRODID:icalendar-ruby
CALSCALE:GREGORIAN
METHOD:PUBLISH
BEGIN:VEVENT
DTSTAMP:20260421T155443Z
UID:40-251735@sturgisumc.org
DTSTART:20260510T143000Z
DTEND:20260510T153000Z
CLASS:PUBLIC
CREATED:20260420T134546
DESCRIPTION:Starting April 26th at 8:30am\, join us for a study that comple
 ments our April sermon series. We'll gather each week through the month of
  May for discussion\, reflection\, and encouragement as we grow together i
 n faith. Whether you are new to Bible study or have attended before\, all 
 are welcome!
LAST-MODIFIED:20260420T134546
LOCATION:1755 Ballpark Rd.\, Sturgis SD
SUMMARY:Sunday Study Group
URL;VALUE=URI:https://www.sturgisumc.org/events/sunday-study-group--40/2026
 -05-10
ATTACH;FILENAME=magic_editTUFISGE1ejN5T2cjMSNlYTEwYWQ1OTNmM2NmZmJkZjMzYjFlZ
 GYwMTBiZDY5MSMxMjYwIyNUUkFOU0ZPUk1BVElPTl9SRVFVRVNU.jpg;FMTTYPE=image/jpeg
 :https://dq5pwpg1q8ru0.cloudfront.net/2026/04/20/19/45/46/a6d2d369-5fca-4d
 e2-8b25-b7e9f819da91/magic_editTUFISGE1ejN5T2cjMSNlYTEwYWQ1OTNmM2NmZmJkZjM
 zYjFlZGYwMTBiZDY5MSMxMjYwIyNUUkFOU0ZPUk1BVElPTl9SRVFVRVNU.jpg
END:VEVENT
END:VCALENDAR
